Package: PIUMA Version: 1.3.0 Command: /Library/Frameworks/R.framework/Resources/bin/R CMD build --keep-empty-dirs --no-resave-data PIUMA StartedAt: 2025-02-12 17:51:38 -0500 (Wed, 12 Feb 2025) EndedAt: 2025-02-12 17:53:15 -0500 (Wed, 12 Feb 2025) EllapsedTime: 97.1 seconds RetCode: 0 Status: OK PackageFile: PIUMA_1.3.0.tar.gz PackageFileSize: 4.226 MiB