Package: PIUMA Version: 1.3.0 Command: /home/biocbuild/bbs-3.21-bioc/R/bin/R CMD INSTALL PIUMA StartedAt: 2025-02-04 15:21:03 -0500 (Tue, 04 Feb 2025) EndedAt: 2025-02-04 15:21:30 -0500 (Tue, 04 Feb 2025) EllapsedTime: 27.0 seconds RetCode: 0 Status: OK