Package: PIUMA Version: 1.3.0 Command: E:\biocbuild\bbs-3.21-bioc\R\bin\R.exe CMD check --no-multiarch --install=check:PIUMA.install-out.txt --library=E:\biocbuild\bbs-3.21-bioc\R\library --no-vignettes --timings PIUMA_1.3.0.tar.gz StartedAt: 2025-02-05 04:33:27 -0500 (Wed, 05 Feb 2025) EndedAt: 2025-02-05 04:37:32 -0500 (Wed, 05 Feb 2025) EllapsedTime: 244.3 seconds RetCode: 0 Status: WARNINGS CheckDir: PIUMA.Rcheck Warnings: 1