Package: PIUMA Version: 1.3.0 Command: E:\biocbuild\bbs-3.21-bioc\R\bin\R.exe CMD INSTALL PIUMA StartedAt: 2025-02-04 15:47:51 -0500 (Tue, 04 Feb 2025) EndedAt: 2025-02-04 15:48:40 -0500 (Tue, 04 Feb 2025) EllapsedTime: 49.5 seconds RetCode: 0 Status: OK