Package: PLPE Version: 1.67.0 Command: rm -rf PLPE.buildbin-libdir && mkdir PLPE.buildbin-libdir && /Users/biocbuild/BBS/utils/build-universal.sh PLPE_1.67.0.tar.gz /Library/Frameworks/R.framework/Resources/bin/R PLPE.buildbin-libdir StartedAt: 2025-02-12 22:30:28 -0500 (Wed, 12 Feb 2025) EndedAt: 2025-02-12 22:30:30 -0500 (Wed, 12 Feb 2025) EllapsedTime: 2.1 seconds RetCode: 0 Status: OK PackageFile: PLPE_1.67.0.tgz PackageFileSize: 302.1 KiB