Package: PLPE Version: 1.67.0 Command: /Library/Frameworks/R.framework/Resources/bin/R CMD build --keep-empty-dirs --no-resave-data PLPE StartedAt: 2025-02-09 17:58:30 -0500 (Sun, 09 Feb 2025) EndedAt: 2025-02-09 17:58:44 -0500 (Sun, 09 Feb 2025) EllapsedTime: 13.8 seconds RetCode: 0 Status: OK PackageFile: PLPE_1.67.0.tar.gz PackageFileSize: 262.2 KiB