Package: PLPE Version: 1.67.0 Command: /Library/Frameworks/R.framework/Resources/bin/R CMD INSTALL PLPE StartedAt: 2025-02-09 15:05:15 -0500 (Sun, 09 Feb 2025) EndedAt: 2025-02-09 15:05:40 -0500 (Sun, 09 Feb 2025) EllapsedTime: 24.7 seconds RetCode: 0 Status: OK