Package: PLPE Version: 1.67.0 Command: /home/biocbuild/bbs-3.21-bioc/R/bin/R CMD build --keep-empty-dirs --no-resave-data PLPE StartedAt: 2025-02-09 18:40:56 -0500 (Sun, 09 Feb 2025) EndedAt: 2025-02-09 18:41:04 -0500 (Sun, 09 Feb 2025) EllapsedTime: 8.0 seconds RetCode: 0 Status: OK PackageFile: PLPE_1.67.0.tar.gz PackageFileSize: 262.7 KiB