Package: PLPE Version: 1.67.0 Command: chmod a+r PLPE -R && E:\biocbuild\bbs-3.21-bioc\R\bin\R.exe CMD build --keep-empty-dirs --no-resave-data PLPE StartedAt: 2025-02-12 20:53:35 -0500 (Wed, 12 Feb 2025) EndedAt: 2025-02-12 20:53:50 -0500 (Wed, 12 Feb 2025) EllapsedTime: 14.8 seconds RetCode: 0 Status: OK PackageFile: PLPE_1.67.0.tar.gz PackageFileSize: 155.4 KiB