Package: PLPE Version: 1.67.0 Command: E:\biocbuild\bbs-3.21-bioc\R\bin\R.exe CMD INSTALL PLPE StartedAt: 2025-02-09 15:24:17 -0500 (Sun, 09 Feb 2025) EndedAt: 2025-02-09 15:24:28 -0500 (Sun, 09 Feb 2025) EllapsedTime: 11.1 seconds RetCode: 0 Status: OK