Package: PLSDAbatch Version: 1.3.0 Command: /Library/Frameworks/R.framework/Resources/bin/R CMD build --keep-empty-dirs --no-resave-data PLSDAbatch StartedAt: 2025-02-12 17:15:47 -0500 (Wed, 12 Feb 2025) EndedAt: 2025-02-12 17:16:20 -0500 (Wed, 12 Feb 2025) EllapsedTime: 32.4 seconds RetCode: 0 Status: OK PackageFile: PLSDAbatch_1.3.0.tar.gz PackageFileSize: 1.621 MiB