Package: PLSDAbatch Version: 1.3.0 Command: /home/biocbuild/R/R/bin/R CMD INSTALL PLSDAbatch StartedAt: 2025-01-29 20:33:36 -0000 (Wed, 29 Jan 2025) EndedAt: 2025-01-29 20:34:35 -0000 (Wed, 29 Jan 2025) EllapsedTime: 59.6 seconds RetCode: 0 Status: OK