Package: PLSDAbatch Version: 1.3.0 Command: /Library/Frameworks/R.framework/Resources/bin/R CMD check --install=check:PLSDAbatch.install-out.txt --library=/Library/Frameworks/R.framework/Resources/library --no-vignettes --timings PLSDAbatch_1.3.0.tar.gz StartedAt: 2025-02-12 22:29:36 -0500 (Wed, 12 Feb 2025) EndedAt: 2025-02-12 22:34:38 -0500 (Wed, 12 Feb 2025) EllapsedTime: 302.2 seconds RetCode: 0 Status: OK CheckDir: PLSDAbatch.Rcheck Warnings: 0