Package: PLSDAbatch Version: 1.3.0 Command: /home/biocbuild/bbs-3.21-bioc/R/bin/R CMD check --install=check:PLSDAbatch.install-out.txt --library=/home/biocbuild/bbs-3.21-bioc/R/site-library --timings PLSDAbatch_1.3.0.tar.gz StartedAt: 2025-02-10 01:22:26 -0500 (Mon, 10 Feb 2025) EndedAt: 2025-02-10 01:27:27 -0500 (Mon, 10 Feb 2025) EllapsedTime: 301.4 seconds RetCode: 0 Status: OK CheckDir: PLSDAbatch.Rcheck Warnings: 0