Package: PLSDAbatch Version: 1.3.0 Command: rm -rf PLSDAbatch.buildbin-libdir && mkdir PLSDAbatch.buildbin-libdir && E:\biocbuild\bbs-3.21-bioc\R\bin\R.exe CMD INSTALL --build --library=PLSDAbatch.buildbin-libdir PLSDAbatch_1.3.0.tar.gz StartedAt: 2025-02-10 08:23:47 -0500 (Mon, 10 Feb 2025) EndedAt: 2025-02-10 08:24:32 -0500 (Mon, 10 Feb 2025) EllapsedTime: 45.1 seconds RetCode: 0 Status: OK PackageFile: PLSDAbatch_1.3.0.zip PackageFileSize: 1.228 MiB