Package: PLSDAbatch Version: 1.3.0 Command: E:\biocbuild\bbs-3.21-bioc\R\bin\R.exe CMD INSTALL PLSDAbatch StartedAt: 2025-02-09 16:26:52 -0500 (Sun, 09 Feb 2025) EndedAt: 2025-02-09 16:27:48 -0500 (Sun, 09 Feb 2025) EllapsedTime: 56.1 seconds RetCode: 0 Status: OK