Package: POWSC Version: 1.15.0 Command: rm -rf POWSC.buildbin-libdir && mkdir POWSC.buildbin-libdir && /Users/biocbuild/BBS/utils/build-universal.sh POWSC_1.15.0.tar.gz /Library/Frameworks/R.framework/Resources/bin/R POWSC.buildbin-libdir StartedAt: 2025-02-03 23:01:14 -0500 (Mon, 03 Feb 2025) EndedAt: 2025-02-03 23:01:26 -0500 (Mon, 03 Feb 2025) EllapsedTime: 12.3 seconds RetCode: 0 Status: OK PackageFile: POWSC_1.15.0.tgz PackageFileSize: 1.361 MiB