Package: POWSC Version: 1.15.0 Command: /Library/Frameworks/R.framework/Resources/bin/R CMD build --keep-empty-dirs --no-resave-data POWSC StartedAt: 2025-02-09 17:16:31 -0500 (Sun, 09 Feb 2025) EndedAt: 2025-02-09 17:17:00 -0500 (Sun, 09 Feb 2025) EllapsedTime: 29.3 seconds RetCode: 0 Status: OK PackageFile: POWSC_1.15.0.tar.gz PackageFileSize: 1.14 MiB