Package: POWSC Version: 1.15.0 Command: /home/biocbuild/R/R/bin/R CMD INSTALL POWSC StartedAt: 2025-01-29 19:43:02 -0000 (Wed, 29 Jan 2025) EndedAt: 2025-01-29 19:43:39 -0000 (Wed, 29 Jan 2025) EllapsedTime: 36.3 seconds RetCode: 0 Status: OK