Package: POWSC Version: 1.15.0 Command: /Library/Frameworks/R.framework/Resources/bin/R CMD INSTALL POWSC StartedAt: 2025-02-03 15:17:56 -0500 (Mon, 03 Feb 2025) EndedAt: 2025-02-03 15:18:31 -0500 (Mon, 03 Feb 2025) EllapsedTime: 34.9 seconds RetCode: 0 Status: OK