Package: POWSC Version: 1.15.0 Command: /home/biocbuild/bbs-3.21-bioc/R/bin/R CMD build --keep-empty-dirs --no-resave-data POWSC StartedAt: 2025-02-09 18:41:56 -0500 (Sun, 09 Feb 2025) EndedAt: 2025-02-09 18:43:16 -0500 (Sun, 09 Feb 2025) EllapsedTime: 80.1 seconds RetCode: 0 Status: OK PackageFile: POWSC_1.15.0.tar.gz PackageFileSize: 1.136 MiB