Package: POWSC Version: 1.15.0 Command: /home/biocbuild/bbs-3.21-bioc/R/bin/R CMD check --install=check:POWSC.install-out.txt --library=/home/biocbuild/bbs-3.21-bioc/R/site-library --timings POWSC_1.15.0.tar.gz StartedAt: 2025-02-04 01:31:21 -0500 (Tue, 04 Feb 2025) EndedAt: 2025-02-04 01:36:34 -0500 (Tue, 04 Feb 2025) EllapsedTime: 313.4 seconds RetCode: 0 Status: OK CheckDir: POWSC.Rcheck Warnings: 0