Package: POWSC Version: 1.15.0 Command: /home/biocbuild/bbs-3.21-bioc/R/bin/R CMD INSTALL POWSC StartedAt: 2025-02-03 15:28:45 -0500 (Mon, 03 Feb 2025) EndedAt: 2025-02-03 15:29:11 -0500 (Mon, 03 Feb 2025) EllapsedTime: 26.0 seconds RetCode: 0 Status: OK