Package: POWSC Version: 1.15.0 Command: rm -rf POWSC.buildbin-libdir && mkdir POWSC.buildbin-libdir && E:\biocbuild\bbs-3.21-bioc\R\bin\R.exe CMD INSTALL --build --library=POWSC.buildbin-libdir POWSC_1.15.0.tar.gz StartedAt: 2025-02-04 08:37:17 -0500 (Tue, 04 Feb 2025) EndedAt: 2025-02-04 08:37:50 -0500 (Tue, 04 Feb 2025) EllapsedTime: 33.2 seconds RetCode: 0 Status: OK PackageFile: POWSC_1.15.0.zip PackageFileSize: 1.338 MiB