Package: POWSC Version: 1.15.0 Command: chmod a+r POWSC -R && E:\biocbuild\bbs-3.21-bioc\R\bin\R.exe CMD build --keep-empty-dirs --no-resave-data POWSC StartedAt: 2025-02-09 20:50:19 -0500 (Sun, 09 Feb 2025) EndedAt: 2025-02-09 20:51:41 -0500 (Sun, 09 Feb 2025) EllapsedTime: 82.3 seconds RetCode: 0 Status: OK PackageFile: POWSC_1.15.0.tar.gz PackageFileSize: 1.116 MiB