Package: POWSC Version: 1.15.0 Command: E:\biocbuild\bbs-3.21-bioc\R\bin\R.exe CMD INSTALL POWSC StartedAt: 2025-02-03 16:35:30 -0500 (Mon, 03 Feb 2025) EndedAt: 2025-02-03 16:36:01 -0500 (Mon, 03 Feb 2025) EllapsedTime: 31.7 seconds RetCode: 0 Status: OK