Package: PROcess Version: 1.83.0 Command: rm -rf PROcess.buildbin-libdir && mkdir PROcess.buildbin-libdir && /Users/biocbuild/BBS/utils/build-universal.sh PROcess_1.83.0.tar.gz /Library/Frameworks/R.framework/Resources/bin/R PROcess.buildbin-libdir StartedAt: 2025-02-12 22:30:48 -0500 (Wed, 12 Feb 2025) EndedAt: 2025-02-12 22:30:52 -0500 (Wed, 12 Feb 2025) EllapsedTime: 4.1 seconds RetCode: 0 Status: OK PackageFile: PROcess_1.83.0.tgz PackageFileSize: 2.055 MiB