Package: PROcess Version: 1.83.0 Command: /home/biocbuild/R/R/bin/R CMD INSTALL PROcess StartedAt: 2025-01-29 20:15:33 -0000 (Wed, 29 Jan 2025) EndedAt: 2025-01-29 20:15:41 -0000 (Wed, 29 Jan 2025) EllapsedTime: 7.4 seconds RetCode: 0 Status: OK