Package: PROcess Version: 1.83.0 Command: /Library/Frameworks/R.framework/Resources/bin/R CMD build --keep-empty-dirs --no-resave-data PROcess StartedAt: 2025-02-12 17:54:01 -0500 (Wed, 12 Feb 2025) EndedAt: 2025-02-12 17:54:22 -0500 (Wed, 12 Feb 2025) EllapsedTime: 21.5 seconds RetCode: 0 Status: OK PackageFile: PROcess_1.83.0.tar.gz PackageFileSize: 1.999 MiB