Package: PROcess Version: 1.83.0 Command: /Library/Frameworks/R.framework/Resources/bin/R CMD check --install=check:PROcess.install-out.txt --library=/Library/Frameworks/R.framework/Resources/library --no-vignettes --timings PROcess_1.83.0.tar.gz StartedAt: 2025-02-12 22:33:00 -0500 (Wed, 12 Feb 2025) EndedAt: 2025-02-12 22:33:49 -0500 (Wed, 12 Feb 2025) EllapsedTime: 48.2 seconds RetCode: 0 Status: OK CheckDir: PROcess.Rcheck Warnings: 0