Package: PROcess Version: 1.83.0 Command: /home/biocbuild/bbs-3.21-bioc/R/bin/R CMD build --keep-empty-dirs --no-resave-data PROcess StartedAt: 2025-02-09 18:43:11 -0500 (Sun, 09 Feb 2025) EndedAt: 2025-02-09 18:43:27 -0500 (Sun, 09 Feb 2025) EllapsedTime: 16.0 seconds RetCode: 0 Status: OK PackageFile: PROcess_1.83.0.tar.gz PackageFileSize: 2 MiB