Package: PROcess Version: 1.83.0 Command: /home/biocbuild/bbs-3.21-bioc/R/bin/R CMD INSTALL PROcess StartedAt: 2025-02-12 15:15:03 -0500 (Wed, 12 Feb 2025) EndedAt: 2025-02-12 15:15:08 -0500 (Wed, 12 Feb 2025) EllapsedTime: 4.8 seconds RetCode: 0 Status: OK