Package: PROcess Version: 1.83.0 Command: rm -rf PROcess.buildbin-libdir && mkdir PROcess.buildbin-libdir && E:\biocbuild\bbs-3.21-bioc\R\bin\R.exe CMD INSTALL --build --library=PROcess.buildbin-libdir PROcess_1.83.0.tar.gz StartedAt: 2025-02-13 08:35:15 -0500 (Thu, 13 Feb 2025) EndedAt: 2025-02-13 08:35:34 -0500 (Thu, 13 Feb 2025) EllapsedTime: 18.9 seconds RetCode: 0 Status: OK PackageFile: PROcess_1.83.0.zip PackageFileSize: 1.973 MiB