Package: PROcess Version: 1.83.0 Command: chmod a+r PROcess -R && E:\biocbuild\bbs-3.21-bioc\R\bin\R.exe CMD build --keep-empty-dirs --no-resave-data PROcess StartedAt: 2025-02-09 20:52:20 -0500 (Sun, 09 Feb 2025) EndedAt: 2025-02-09 20:52:46 -0500 (Sun, 09 Feb 2025) EllapsedTime: 26.5 seconds RetCode: 0 Status: OK PackageFile: PROcess_1.83.0.tar.gz PackageFileSize: 1.912 MiB