Package: PROcess Version: 1.83.0 Command: E:\biocbuild\bbs-3.21-bioc\R\bin\R.exe CMD check --no-multiarch --install=check:PROcess.install-out.txt --library=E:\biocbuild\bbs-3.21-bioc\R\library --no-vignettes --timings PROcess_1.83.0.tar.gz StartedAt: 2025-02-13 04:24:25 -0500 (Thu, 13 Feb 2025) EndedAt: 2025-02-13 04:25:13 -0500 (Thu, 13 Feb 2025) EllapsedTime: 48.0 seconds RetCode: 0 Status: OK CheckDir: PROcess.Rcheck Warnings: 0