Package: PROcess Version: 1.83.0 Command: E:\biocbuild\bbs-3.21-bioc\R\bin\R.exe CMD INSTALL PROcess StartedAt: 2025-02-09 15:55:28 -0500 (Sun, 09 Feb 2025) EndedAt: 2025-02-09 15:55:45 -0500 (Sun, 09 Feb 2025) EllapsedTime: 17.4 seconds RetCode: 0 Status: OK