Package: PSMatch Version: 1.11.0 Command: /Library/Frameworks/R.framework/Resources/bin/R CMD check --install=check:PSMatch.install-out.txt --library=/Library/Frameworks/R.framework/Resources/library --no-vignettes --timings PSMatch_1.11.0.tar.gz StartedAt: 2025-02-04 22:33:35 -0500 (Tue, 04 Feb 2025) EndedAt: 2025-02-04 22:37:42 -0500 (Tue, 04 Feb 2025) EllapsedTime: 247.6 seconds RetCode: 1 Status: ERROR CheckDir: PSMatch.Rcheck Warnings: NA