Package: PSMatch Version: 1.11.0 Command: /Library/Frameworks/R.framework/Resources/bin/R CMD INSTALL PSMatch StartedAt: 2025-02-04 15:27:03 -0500 (Tue, 04 Feb 2025) EndedAt: 2025-02-04 15:27:40 -0500 (Tue, 04 Feb 2025) EllapsedTime: 36.9 seconds RetCode: 0 Status: OK