Package: PSMatch Version: 1.11.0 Command: /home/biocbuild/bbs-3.21-bioc/R/bin/R CMD check --install=check:PSMatch.install-out.txt --library=/home/biocbuild/bbs-3.21-bioc/R/site-library --timings PSMatch_1.11.0.tar.gz StartedAt: 2025-02-10 01:32:19 -0500 (Mon, 10 Feb 2025) EndedAt: 2025-02-10 01:37:56 -0500 (Mon, 10 Feb 2025) EllapsedTime: 336.4 seconds RetCode: 0 Status: OK CheckDir: PSMatch.Rcheck Warnings: 0