Package: PSMatch Version: 1.11.0 Command: chmod a+r PSMatch -R && E:\biocbuild\bbs-3.21-bioc\R\bin\R.exe CMD build --keep-empty-dirs --no-resave-data PSMatch StartedAt: 2025-02-04 20:56:35 -0500 (Tue, 04 Feb 2025) EndedAt: 2025-02-04 21:07:29 -0500 (Tue, 04 Feb 2025) EllapsedTime: 653.7 seconds RetCode: 0 Status: OK PackageFile: PSMatch_1.11.0.tar.gz PackageFileSize: 1.095 MiB