Package: PWMEnrich Version: 4.43.0 Command: /Library/Frameworks/R.framework/Resources/bin/R CMD build --keep-empty-dirs --no-resave-data PWMEnrich StartedAt: 2025-02-09 17:18:34 -0500 (Sun, 09 Feb 2025) EndedAt: 2025-02-09 17:19:03 -0500 (Sun, 09 Feb 2025) EllapsedTime: 28.3 seconds RetCode: 0 Status: OK PackageFile: PWMEnrich_4.43.0.tar.gz PackageFileSize: 1.571 MiB