Package: PWMEnrich Version: 4.43.0 Command: /Library/Frameworks/R.framework/Resources/bin/R CMD check --install=check:PWMEnrich.install-out.txt --library=/Library/Frameworks/R.framework/Resources/library --no-vignettes --timings PWMEnrich_4.43.0.tar.gz StartedAt: 2025-02-09 20:47:41 -0500 (Sun, 09 Feb 2025) EndedAt: 2025-02-09 20:48:21 -0500 (Sun, 09 Feb 2025) EllapsedTime: 39.5 seconds RetCode: 0 Status: OK CheckDir: PWMEnrich.Rcheck Warnings: 0