Package: PWMEnrich Version: 4.43.0 Command: /Library/Frameworks/R.framework/Resources/bin/R CMD INSTALL PWMEnrich StartedAt: 2025-02-09 15:05:04 -0500 (Sun, 09 Feb 2025) EndedAt: 2025-02-09 15:05:10 -0500 (Sun, 09 Feb 2025) EllapsedTime: 5.7 seconds RetCode: 0 Status: OK