Package: PWMEnrich Version: 4.43.0 Command: /Library/Frameworks/R.framework/Resources/bin/R CMD check --install=check:PWMEnrich.install-out.txt --library=/Library/Frameworks/R.framework/Resources/library --no-vignettes --timings PWMEnrich_4.43.0.tar.gz StartedAt: 2025-02-12 22:37:03 -0500 (Wed, 12 Feb 2025) EndedAt: 2025-02-12 22:39:04 -0500 (Wed, 12 Feb 2025) EllapsedTime: 121.4 seconds RetCode: 0 Status: OK CheckDir: PWMEnrich.Rcheck Warnings: 0