Package: PWMEnrich Version: 4.43.0 Command: /Library/Frameworks/R.framework/Resources/bin/R CMD INSTALL PWMEnrich StartedAt: 2025-02-09 15:11:19 -0500 (Sun, 09 Feb 2025) EndedAt: 2025-02-09 15:11:39 -0500 (Sun, 09 Feb 2025) EllapsedTime: 20.6 seconds RetCode: 0 Status: OK