Package: PWMEnrich Version: 4.43.0 Command: E:\biocbuild\bbs-3.21-bioc\R\bin\R.exe CMD check --no-multiarch --install=check:PWMEnrich.install-out.txt --library=E:\biocbuild\bbs-3.21-bioc\R\library --no-vignettes --timings PWMEnrich_4.43.0.tar.gz StartedAt: 2025-02-10 04:21:16 -0500 (Mon, 10 Feb 2025) EndedAt: 2025-02-10 04:23:24 -0500 (Mon, 10 Feb 2025) EllapsedTime: 128.2 seconds RetCode: 0 Status: OK CheckDir: PWMEnrich.Rcheck Warnings: 0