Package: PanomiR Version: 1.11.0 Command: /Library/Frameworks/R.framework/Resources/bin/R CMD INSTALL PanomiR StartedAt: 2025-02-12 15:22:38 -0500 (Wed, 12 Feb 2025) EndedAt: 2025-02-12 15:22:40 -0500 (Wed, 12 Feb 2025) EllapsedTime: 2.1 seconds RetCode: 0 Status: OK