Package: PanomiR Version: 1.11.0 Command: chmod a+r PanomiR -R && E:\biocbuild\bbs-3.21-bioc\R\bin\R.exe CMD build --keep-empty-dirs --no-resave-data PanomiR StartedAt: 2025-02-12 20:42:13 -0500 (Wed, 12 Feb 2025) EndedAt: 2025-02-12 20:42:46 -0500 (Wed, 12 Feb 2025) EllapsedTime: 33.1 seconds RetCode: 0 Status: OK PackageFile: PanomiR_1.11.0.tar.gz PackageFileSize: 1.98 MiB