Package: PanomiR Version: 1.11.0 Command: E:\biocbuild\bbs-3.21-bioc\R\bin\R.exe CMD check --no-multiarch --install=check:PanomiR.install-out.txt --library=E:\biocbuild\bbs-3.21-bioc\R\library --no-vignettes --timings PanomiR_1.11.0.tar.gz StartedAt: 2025-02-13 04:04:31 -0500 (Thu, 13 Feb 2025) EndedAt: 2025-02-13 04:06:30 -0500 (Thu, 13 Feb 2025) EllapsedTime: 118.7 seconds RetCode: 0 Status: OK CheckDir: PanomiR.Rcheck Warnings: 0