Package: Path2PPI Version: 1.37.0 Command: /home/biocbuild/R/R/bin/R CMD build --keep-empty-dirs --no-resave-data Path2PPI StartedAt: 2025-01-29 01:11:17 -0000 (Wed, 29 Jan 2025) EndedAt: 2025-01-29 01:11:35 -0000 (Wed, 29 Jan 2025) EllapsedTime: 18.0 seconds RetCode: 0 Status: OK PackageFile: Path2PPI_1.37.0.tar.gz PackageFileSize: 1.273 MiB